BEGIN:VCALENDAR
VERSION:2.0
PRODID:-//Formation Ongles Bretagne - ECPv6.15.20//NONSGML v1.0//EN
CALSCALE:GREGORIAN
METHOD:PUBLISH
X-WR-CALNAME:Formation Ongles Bretagne
X-ORIGINAL-URL:https://formation-ongles-bretagne.fr
X-WR-CALDESC:Évènements pour Formation Ongles Bretagne
REFRESH-INTERVAL;VALUE=DURATION:PT1H
X-Robots-Tag:noindex
X-PUBLISHED-TTL:PT1H
BEGIN:VTIMEZONE
TZID:Europe/Paris
BEGIN:DAYLIGHT
TZOFFSETFROM:+0100
TZOFFSETTO:+0200
TZNAME:CEST
DTSTART:20250330T010000
END:DAYLIGHT
BEGIN:STANDARD
TZOFFSETFROM:+0200
TZOFFSETTO:+0100
TZNAME:CET
DTSTART:20251026T010000
END:STANDARD
BEGIN:DAYLIGHT
TZOFFSETFROM:+0100
TZOFFSETTO:+0200
TZNAME:CEST
DTSTART:20260329T010000
END:DAYLIGHT
BEGIN:STANDARD
TZOFFSETFROM:+0200
TZOFFSETTO:+0100
TZNAME:CET
DTSTART:20261025T010000
END:STANDARD
BEGIN:DAYLIGHT
TZOFFSETFROM:+0100
TZOFFSETTO:+0200
TZNAME:CEST
DTSTART:20270328T010000
END:DAYLIGHT
BEGIN:STANDARD
TZOFFSETFROM:+0200
TZOFFSETTO:+0100
TZNAME:CET
DTSTART:20271031T010000
END:STANDARD
END:VTIMEZONE
BEGIN:VEVENT
DTSTART;TZID=Europe/Paris:20260601T090000
DTEND;TZID=Europe/Paris:20260612T170000
DTSTAMP:20260419T163530
CREATED:20251111T124602Z
LAST-MODIFIED:20251116T101910Z
UID:421-1780304400-1781283600@formation-ongles-bretagne.fr
SUMMARY:Formation de base
DESCRIPTION:🌸 Formation Base Prothésiste Ongulaire – 10 jours pour révéler votre talentPlongez dans l’univers passionnant de la prothésie ongulaire avec une formation complète\, technique et humaine\, pensée pour vous accompagner dans chaque étape de votre lancement professionnel. \n\n\n\n✅ PrérequisCette formation est ouverte aux débutants : aucune expérience préalable n’est requise\, seulement votre motivation et votre envie d’apprendre. \n\n\n\n📚 Théorie – Les fondations du métierDurant les premiers jours\, vous découvrirez : \n\n\n\n\nL’anatomie de l’ongle\, les morphologies et les principales pathologies à connaître\n\n\n\n\n\nLes différents types de gels\, leur composition et la chimie des produits\n\n\n\n\n\nLes bases de l’administration : inscription à la CMA\, démarches URSSAF\, assurances\, calcul des charges et coûts\n\n\n\n\n\nUne introduction au marketing : recherche et fidélisation de clientèle\, nomenclature des prestations\, gestion des réseaux sociaux\n\n\n\n\n💅 Pratique – Le geste professionnelVous apprendrez et maîtriserez : \n\n\n\n\nLa préparation de l’ongle et les règles d’hygiène\n\n\n\n\n\nLa pose de vernis semi-permanent (VSP)\, le gainage\, et l’extension chablon\n\n\n\n\n\nUne journée dédiée à la décoration : french\, babyboomer\, paillettes\, strass…\n\n\n\n\n\nPlusieurs modèles pratiques tout au long de la formation\n\n\n\n\n\nLe dernier jour : examen final pour valider vos acquis\n\n\n\n\n🤝 Un accompagnement sur-mesure \n\n\n\n\nSuivi personnalisé avant\, pendant et après la formation\n\n\n\n\n\nGroupe de discussion privé pour échanger\, poser vos questions et évoluer ensemble\n\n\n\n\n\nSessions limitées à 5 personnes maximum pour garantir un encadrement de qualité\n\n\n\n\n🧰 Matériel & boutique \n\n\n\n\nProduits et lampes fournis durant la formation\n\n\n\n\n\nÀ apporter : vos pinceaux\, outils et ponceuse\n\n\n\n\n\nUn kit complet est disponible à la vente\, ainsi que tout le matériel professionnel dans la boutique du centre de formation\n\n\n\n\n💼 Financement & inscription \n\n\n\nPour vous inscrire : contactez-nous via le formulaire de contact ou par téléphone \n\n\n\nFormation éligible au CPF (Compte Personnel de Formation)
URL:https://formation-ongles-bretagne.fr/formation/test/
END:VEVENT
BEGIN:VEVENT
DTSTART;TZID=Europe/Paris:20260921T090000
DTEND;TZID=Europe/Paris:20261002T170000
DTSTAMP:20260419T163530
CREATED:20251116T095649Z
LAST-MODIFIED:20251116T173748Z
UID:433-1789981200-1790960400@formation-ongles-bretagne.fr
SUMMARY:Formation de base
DESCRIPTION:🌸 Formation Base Prothésiste Ongulaire – 10 jours pour révéler votre talentPlongez dans l’univers passionnant de la prothésie ongulaire avec une formation complète\, technique et humaine\, pensée pour vous accompagner dans chaque étape de votre lancement professionnel. \n\n\n\n✅ PrérequisCette formation est ouverte aux débutants : aucune expérience préalable n’est requise\, seulement votre motivation et votre envie d’apprendre. \n\n\n\n📚 Théorie – Les fondations du métierDurant les premiers jours\, vous découvrirez : \n\n\n\n\nL’anatomie de l’ongle\, les morphologies et les principales pathologies à connaître\n\n\n\n\n\nLes différents types de gels\, leur composition et la chimie des produits\n\n\n\n\n\nLes bases de l’administration : inscription à la CMA\, démarches URSSAF\, assurances\, calcul des charges et coûts\n\n\n\n\n\nUne introduction au marketing : recherche et fidélisation de clientèle\, nomenclature des prestations\, gestion des réseaux sociaux\n\n\n\n\n💅 Pratique – Le geste professionnelVous apprendrez et maîtriserez : \n\n\n\n\nLa préparation de l’ongle et les règles d’hygiène\n\n\n\n\n\nLa pose de vernis semi-permanent (VSP)\, le gainage\, et l’extension chablon\n\n\n\n\n\nUne journée dédiée à la décoration : french\, babyboomer\, paillettes\, strass…\n\n\n\n\n\nPlusieurs modèles pratiques tout au long de la formation\n\n\n\n\n\nLe dernier jour : examen final pour valider vos acquis\n\n\n\n\n🤝 Un accompagnement sur-mesure \n\n\n\n\nSuivi personnalisé avant\, pendant et après la formation\n\n\n\n\n\nGroupe de discussion privé pour échanger\, poser vos questions et évoluer ensemble\n\n\n\n\n\nSessions limitées à 5 personnes maximum pour garantir un encadrement de qualité\n\n\n\n\n🧰 Matériel & boutique \n\n\n\n\nProduits et lampes fournis durant la formation\n\n\n\n\n\nÀ apporter : vos pinceaux\, outils et ponceuse\n\n\n\n\n\nUn kit complet est disponible à la vente\, ainsi que tout le matériel professionnel dans la boutique du centre de formation\n\n\n\n\n💼 Financement & inscription \n\n\n\nPour vous inscrire : contactez-nous via le formulaire de contact ou par téléphone \n\n\n\nFormation éligible au CPF (Compte Personnel de Formation)
URL:https://formation-ongles-bretagne.fr/formation/formation-de-base/
END:VEVENT
END:VCALENDAR